Workbook
Name Excel_BuiltIn_Print_Area: Příjmy!$A$1:$D$45

Sheet Příjmy
A1: Paragraf | B1: Položka | C1: Popis | D1: Rozpočet 2020
A2: 0 | B2: 1111 | C2: Daň z příjmů fyzických osob ze závislé činnosti | D2: 630000
A3: 0 | B3: 1112 | C3: Daň z příjmů fyzických osob ze SVČ | D3: 20000
A4: 0 | B4: 1113 | C4: Daň z příjmů fyzických osob z kapitálových výnosů | D4: 60000
A5: 0 | B5: 1121 | C5: Daň z příjmů právnických osob | D5: 500000
A6: 0 | B6: 1122 | C6: Daň z příjmů právnických osob za obce (obec platí sama sobě) | D6: 100000
A7: 0 | B7: 1211 | C7: Daň z přidané hodnoty | D7: =1200000 -> 1200000
A8: 0 | B8: 1340 | C8: Místní poplatek za komunální odpad | D8: 90000
A9: 0 | B9: 1341 | C9: Poplatek ze psů | D9: 3500
A10: 0 | B10: 1381 | C10: Daň z hazartních her | D10: 17000
A11: 0 | B11: 1361 | C11: Správní poplatky (CZECH POINT, poplatek za trvalý pobyt...) | D11: 500
A12: 0 | B12: 1511 | C12: Daň z nemovitostí | D12: 250000
A13: 0 | B13: 4112 | C13: Neinvestiční přijaté dotace ze SR v rámci souhrnného dotačního vztahu | D13: 68100
A14: 0 | B14: 4122 | C14: Dotace - WIFI | D14: 370000
A15: 0 | B15: Daňové příjmy celkem | D15: =SUM(D2:D14) -> 3309100
A16: 1032 | B16: 2111 | C16: Příjmy z prodeje dřeva | D16: 100000
A17: 1032 | B17: Lesní hospodářství celkem | D17: =D16 -> 100000
A18: 2310 | B18: 2111 | C18: Příjmy z prodeje pitné vody (2000m3*38,-Kč + 50*480,-Kč) | D18: 100000
A19: 2310 | B19: Pitná voda | D19: 100000
A20: 3399 | B20: 2139 | C20: Ostatní příjmy z pronájmu majetku | D20: 13000
A21: 3399 | B21: Kulturní akce celkem | D21: =D20 -> 13000
A22: 3612 | B22: 2132 | C22: Příjmy z pronájmu (byt) | D22: 26830
A23: 3612 | B23: Bytové hospodářství celkem | D23: =D22 -> 26830
A24: 3639 | B24: 2119 | C24: Ostatní příjmy z vlastní činnosti | D24: 1000
A25: 3639 | B25: 2133 | C25: Pronájem movitých věcí (stany, lavičky, sekačka) | D25: 2000
A26: 3639 | B26: Komunální služby celkem | D26: =D24+D25 -> 3000
A27: 3722 | B27: 2111 | C27: Příjmy ze služeb a výrobků (prodej pytlů na odpady) | D27: 2500
A28: 3722 | B28: Svoz komunálních odpadů celkem | D28: =D27 -> 2500
A29: 3725 | B29: 2324 | C29: Příjmy za třídění odpadů (Eko-kom) | D29: 25000
A30: 3725 | B30: Využívání a zneškodňování odpadů celkem | D30: =D29 -> 25000
A31: 6310 | B31: 2141 | C31: Příjmy z úroků | D31: 1000
A32: 6310 | B32: Příjmy z finančních operací celkem | D32: =SUM(D31:D31) -> 1000
A34: Příjmy celkem | D34: =SUM(D15,D17,D21,D23,D26,D28,D30,D32)+D19 -> 3580430
A36: 0 | B36: 8115 | C36: Financování z bankovního účtu obce | D36: =313000-29000 -> 284000
A38: Finanční prostředky k financování celkem | D38: =D34+D36 -> 3864430
A40: Rozpočet - závazné ukazatele byly zpracovány v souladu se zněním § 11 zákona č. 250/2000 Sb., o rozpočtových pravidlech územních rozpočtů ve znění zákona č. 320/2001 Sb., č. 320/2002 Sb., č. 421/2004 Sb., č. 557/2004 Sb., č. 562/2004 Sb., č. 635/2004 Sb., č. 138/2006 Sb., č. 140/2006 Sb. a č. 245/2006 Sb. a jejich novelizací.
A46: Návrh rozpočtu Obce Libotov na rok 2020 je schodkový. Schodek bude financován z finančních prostředků z předchozích let.
A47: Návrh rozpočtu Obce Libotov na rok 2020 byl sestaven v souladu se zákoneme č. 128/2000 Sb., o obcíchm se zákonem č. 250/2000 Sb., o rozpočtových pravidlech územního rozpočtu a se zákonem č. 243/2000 Sb., o rozpočtovém určení daní v platném znění.
A49: Vyvěšeno - sejmuto: | D49: Razítko a podpis:
A50: Na úřední desce:
A51: Na elektronické úřední desce:

Sheet Výdaje
A1: Paragraf | B1: Položka | C1: Popis | D1: Rozpočet 2020
A2: 1032 | B2: 5139 | C2: Materiál (sadba a oplocení) | D2: 100000
A3: 1032 | B3: 5169 | C3: Ostatní služby (přořezávky, zalesnění, vyžínání, nátěry proti okusu, kácení...) | D3: 125000
A4: 1032 | B4: Lesní hospodářství celkem | D4: =SUM(D2:D3) -> 225000
A5: 2212 | B5: 5139 | C5: Nákup materiálu (písek) | D5: 30000
A6: 2212 | B6: 5169 | C6: Ost. služby (sekání příkopů, vyhrnování sněhu) | D6: 50000
A7: 2212 | B7: 5171 | C7: Opravy a udržování (rezerva na nepředvídané události) | D7: 20000
A8: 2212 | B8: Silnice celkem | D8: =SUM(D5:D7) -> 100000
A9: 2310 | B9: 5171 | C9: investice do vodovodu Hřibojedy, Litíč | D9: 25000
A10: 2310 | B10: 5171 | C10: investice do vodovodu Libotov | D10: 10000
A11: 2310 | B11: 5169 | C11: provoz vodovodu | D11: 200000
A12: 2310 | B12: 5365 | C12: Platby daní a poplatků krajům, obcím | D12: 4000
A13: 2310 | B13: Vodovody celkem | D13: =SUM(D9:D12) -> 239000
A14: 2321 | B14: 5139 | C14: Nákup materiálu (materiál na opravy) | D14: 5000
A15: 2321 | B15: 5169 | C15: Ostatní služby (rozbory odpadní vody + provoz kanalizace provozovatelem) | D15: 40000
A16: 2321 | B16: 5171 | C16: Opravy (rezerva na nepředvídané výdaje) | D16: 10000
A17: 2321 | B17: Kanalizace celkem | D17: =SUM(D14:D16) -> 55000
A18: 3111 | B18: 5171 | C18: Opravy a udržování (zateplení MŠ, nový zdroj tepla) | D18: 0
A19: 3111 | B19: 5137 | C19: Drobný hmotný dlouhodobý majetek | D19: 10000
A20: 3111 | B20: 5156 | C20: PHM | D20: 0
A21: 3111 | B21: 5169 | C21: Nákup služeb | D21: 5000
A22: 3111 | B22: 5171 | C22: Opravy a udržování | D22: 30000
A23: 3111 | B23: 5331 | C23: Příspěvek na provoz PO MŠ | D23: 132000
A24: 3111 | B24: Předškolní zařízení celkem | D24: =SUM(D18:D23) -> 177000
A25: 3341 | B25: 5169 | C25: Nákup služeb (revize rozhlasu) | D25: 5000
A26: 3341 | B26: Rozhlas a televize celkem | D26: =D25 -> 5000
A27: 3399 | B27: 5021 | C27: Ostatní osobní výdaje (hudební produkce, pořádání akcí...) | D27: 10000
A28: 3399 | B28: 5139 | C28: Materiál (materiál - kulturní akce) | D28: 13000
A29: 3399 | B29: 5169 | C29: Služby (kulturní program, propagace, hudba, kopírování) | D29: 10000
A30: 3399 | B30: 5175 | C30: Občerstvení (konzumováno přímo na akcích - setkání důchodců, opékání selete, dětský den, dámská jízda...) | D30: 45000
A31: 3399 | B31: 5194 | C31: Věcné dary (dárkové balíčky, květiny, ceny do soutěží) | D31: 40000
A32: 3399 | B32: 5492 | C32: Dary obyvatelstvu (finanční dary seniorům a dětem) | D32: 20000
A33: 3399 | B33: Záležitosti kultury (Mikulášská, dětský den, důchodci, vítání občánků, setkání žen...) celkem | D33: =SUM(D27:D32) -> 138000
A34: 3412 | B34: 5139 | C34: Materiál (na opravy) | D34: 12000
A35: 3412 | B35: 5137 | C35: Drobný dlouhodobý majetek | D35: 5000
A36: 3412 | B36: 5153 | C36: Plyn | D36: 2000
A37: 3412 | B37: 5154 | C37: El. energie | D37: 30000
A38: 3412 | B38: 5169 | C38: Služby (kontrola komínu na hřišti) | D38: 400
A39: 3412 | B39: 5171 | C39: Opravy a udržování (vrt na hřišti) | D39: 80000
A40: 3412 | B40: 6121 | C40: Stavby | D40: =20000+70000 -> 90000
A41: 3412 | B41: Sportovní zařízení v majetku obce (kabiny a stánek na hřišti) celkem | D41: =SUM(D34:D40) -> 219400
A42: 3419 | B42: 5194 | C42: Věcné dary (poháry a ceny do soutěže - volejbal a fotbal) | D42: 7000
A43: 3419 | B43: 5222 | C43: Neinv. transfery spolkům (finanční dar FC Libotov) | D43: 15000
A44: 3419 | B44: Ostatní telovýchovná činnost (zejm. fotbalový turnaj) celkem | D44: =SUM(D42:D43) -> 22000
A45: 3421 | B45: 5139 | C45: Materiál | D45: 12000
A46: 3421 | B46: Využití volného času mládeže (dětské hřiště) | D46: =SUM(D45:D45) -> 12000
A47: 3612 | B47: 5139 | C47: Nákup materiálů | D47: 5000
A48: 3612 | B48: 5171 | C48: Opravy a udržování (rezerva na nepředvídané výdaje) | D48: 10000
A49: 3612 | B49: Bytové hospodářství celkem | D49: 15000
A50: 3613 | B50: 5169 | C50: Nákup služeb (čištění a kontrola komínu) | D50: 500
A51: 3613 | B51: 5171 | C51: Opravy | D51: 5000
A52: 3613 | B52: Nebytové hospodářství celkem | D52: =D50+D51 -> 5500
A53: 3631 | B53: 5154 | C53: El.energie | D53: 30000
A54: 3631 | B54: 5171 | C54: Opravy a udržování (rezerva na nepředvídané výdaje) | D54: 5000
A55: 3631 | B55: Veřejné osvětlení celkem | D55: =SUM(D53:D54) -> 35000
A56: 3632 | B56: 5194 | C56: Věcné dary (pohřební kytice) | D56: 3000
A57: 3632 | B57: Pohřebnictví celkem | D57: =D56 -> 3000
A58: 3635 | B58: 6111 | C58: Územní plán | D58: 150000
A59: 3635 | B59: Územní plán | D59: 150000
A60: 3639 | B60: 5011 | C60: Platy zaměst. v pr.poměru | D60: 30000
A61: 3639 | B61: 5021 | C61: Ostatní osobní výdaje | D61: 120000
A62: 3639 | B62: 5031 | C62: Povinné poj.na soc.zab.a přísp.na st.pol.zaměstnanosti | D62: 6000
A63: 3639 | B63: 5032 | C63: Povinné poj.na veřejné zdravotní pojištění | D63: 4000
A64: 3639 | B64: 5038 | C64: Povinné pojistné na úrazové pojištění | D64: 1000
A65: 3639 | B65: 5164 | C65: Nájemné (nájemné pozemků od PF ČR) | D65: 7000
A66: 3639 | B66: 5169 | C66: Nákup ostatních služeb (vstupní lékařské prohlídky; zaměření pozemků - geodetické práce) | D66: 10000
A67: 3639 | B67: 5329 | C67: Neivn. dotace DSO (Mikroregion Hustířanka - příspěvek na provoz 100,--/obyv) | D67: 15000
A68: 3639 | B68: 6130 | C68: Pozemky | D68: 10000
A69: 3639 | B69: 5365 | C69: Platby daní a poplatků krajům, obcím... (ověřování) | D69: 200
A70: 3639 | B70: Komunální služby celkem | D70: =SUM(D60:D69) -> 203200
A71: 3721 | B71: 5169 | C71: Svoz nebepečných odpadů (povinné 2x ročně) | D71: 15000
A72: 3721 | B72: Sběr a svoz nebezpečných odpadů celkem | D72: =D71 -> 15000
A73: 3722 | B73: 5139 | C73: Pytle na odpady | D73: 500
A74: 3722 | B74: 5164 | C74: Pronájem kontejnerů | D74: 1000
A75: 3722 | B75: 5169 | C75: Ostatní služby (svoz) | D75: 100000
A76: 3722 | B76: Komunální odpady celkem | D76: =SUM(D73:D75) -> 101500
A77: 3725 | B77: 5164 | C77: Nájemné (kontejnery) | D77: 6000
A78: 3725 | B78: 5169 | C78: Ostatní služby (svoz) | D78: 35000
A79: 3725 | B79: Využívání a zneškodňování odpadů celkem (třídění odpadů) | D79: =SUM(D77:D78) -> 41000
A80: 3745 | B80: 5137 | C80: Drobný hmotný dlouhodobý majetek | D80: 50000
A81: 3745 | B81: 5139 | C81: Materiál (ND na sekačku a další stroje) | D81: 11000
A82: 3745 | B82: 5156 | C82: PHM (do sekačky) | D82: 35000
A83: 3745 | B83: 5169 | C83: Ostatní služby (subdodávky - sekání krajnic, prořezávky stromů) | D83: 25000
A84: 3745 | B84: 5171 | C84: Opravy a udržování (opravy sekačky, křovinořezu...) | D84: 15000
A85: 3745 | B85: 6122 | C85: WIFI | D85: 370000
A86: 3745 | B86: Veřejná zeleň a vzhled obcí celkem | D86: =D80+D81+D82+D83+D84+D85 -> 506000
A87: 5213 | B87: 5903 | C87: Nespecifikovaná rezerva | D87: 50000
A88: 5212 | B88: Krizové záležitosti celkem | D88: =D87 -> 50000
A89: 5512 | B89: 5139 | C89: Materiál (např. ND na požární techniku) | D89: 10000
A90: 5512 | B90: 5154 | C90: El. energie (požární zbrojnice) | D90: 10000
A91: 5512 | B91: 5155 | C91: Pevná paliva (uhlí k topení) | D91: 10000
A92: 5512 | B92: 5156 | C92: PHM (požární technika) | D92: 3000
A93: 5512 | B93: 5167 | C93: Školení a vzdělávání | D93: 5000
A94: 5512 | B94: 5169 | C94: Ostatní služby (revize, zdravotní prohlídky hasičů) | D94: 3000
A95: 5512 | B95: 5171 | C95: Opravy a udržování | D95: 30000
A96: 5512 | B96: 5175 | C96: Občerstvní | D96: 0
A97: 5512 | B97: 5194 | C97: Věcné dary (poháry do soutěže) | D97: 5000
A98: 5512 | B98: 5229 | C98: Ostatní neinv. transfery (členský přísp. OHS Trutnov) | D98: 500
A99: 5512 | B99: Požární ochrana - dobrovolná část celkem | D99: =SUM(D89:D98) -> 76500
A100: 6112 | B100: 5019 | C100: Ostatní platy (refundace mezd - starosta) | D100: 180000
...

Sheet Příjmy ke zveřejnění
A1: Paragraf | B1: Položka | C1: Popis | D1: Rozpočet 2020
A2: 0 | B2: Daňové příjmy celkem | D2: =2939100+370000 -> 3309100
A3: 1032 | B3: Lesní hospodářství celkem | D3: 100000
A4: 2310 | B4: Pitná voda | D4: 100000
A5: 3399 | B5: Kulturní akce celkem | D5: 13000
A6: 3612 | B6: Bytové hospodářství celkem | D6: 26830
A7: 3639 | B7: Komunální služby celkem | D7: 3000
A8: 3722 | B8: Svoz komunálních odpadů celkem | D8: 2500
A9: 3725 | B9: Využívání a zneškodňování odpadů celkem | D9: 25000
A10: 6310 | B10: Příjmy z finančních operací celkem | D10: 1000
A12: Příjmy celkem | D12: =SUM(D2,D3,D5,D6,D7,D8,D9,D10)+D4 -> 3580430
A15: Třída 1 - Daňové příjmy | D15: =Příjmy!D2+Příjmy!D3+Příjmy!D4+Příjmy!D5+Příjmy!D6+Příjmy!D7+Příjmy!D8+Příjmy!D9+Příjmy!D10+Příjmy!D11+Příjmy!D12 -> 2871000
A16: Třída 2 - Nedaňové příjmy | D16: =Příjmy!D16+Příjmy!D18+Příjmy!D20+Příjmy!D22+Příjmy!D24+Příjmy!D25+Příjmy!D27+Příjmy!D29+Příjmy!D31 -> 271330
A17: Třída 3 - Kapitálové příjmy | D17: 0
A18: Třída 4 - Přijaté transfery | D18: =Příjmy!D13+Příjmy!D14 -> 438100
A20: Třída 8 - Financování | D20: =313000-29000 -> 284000
A22: Příjmy celkem | D22: =D13+D14+D17+D18+D15+D16+D20 -> 3864430
A25: Rozpočet - závazné ukazatele byly zpracovány v souladu se zněním § 11 zákona č. 250/2000 Sb., o rozpočtových pravidlech územních rozpočtů ve znění zákona č. 320/2001 Sb., č. 320/2002 Sb., č. 421/2004 Sb., č. 557/2004 Sb., č. 562/2004 Sb., č. 635/2004 Sb., č. 138/2006 Sb., č. 140/2006 Sb. a č. 245/2006 Sb. a jejich novelizací.
A31: Schválený rozpočet Obce Libotov na rok 2020 je schodkový. Schodek bude financován z finančních prostředků z předchozích let.
A32: Schválený rozpočet Obce Libotov na rok 2020 je schodkový. Schodek bude financován z finančních prostředků z předchozích let.
A34: Vyvěšeno - sejmuto: | D34: Razítko a podpis:
A35: Na úřední desce:
A36: Na elektronické úřední desce:

Sheet Výdaje ke zveřejnění
A1: Paragraf | B1: Položka | C1: Popis | D1: Rozpočet 2020
A2: 1032 | B2: Lesní hospodářství celkem | D2: 225000
A3: 2212 | B3: Silnice celkem | D3: 100000
A4: 2310 | B4: Vodovody celkem | D4: 239000
A5: 2321 | B5: Kanalizace celkem | D5: 55000
A6: 3111 | B6: Předškolní zařízení celkem | D6: 177000
A7: 3341 | B7: Rozhlas a televize celkem | D7: 5000
A8: 3399 | B8: Záležitosti kultury (Mikulášská, dětský den, důchodci, vítání občánků, setkání žen...) celkem | D8: 138000
A9: 3412 | B9: Sportovní zařízení v majetku obce (kabiny a stánek na hřišti) celkem | D9: 219400
A10: 3419 | B10: Ostatní telovýchovná činnost (zejm. fotbalový turnaj) celkem | D10: 22000
A11: 3421 | B11: Využití volného času mládeže (dětské hřiště) | D11: 12000
A12: 3612 | B12: Bytové hospodářství celkem | D12: 15000
A13: 3613 | B13: Nebytové hospodářství celkem | D13: 5500
... A20: 3725 | B20: Využívání a zneškodňování odpadů celkem (třídění odpadů) | D20: 41000
A21: 3745 | B21: Veřejná zeleň a vzhled obcí celkem | D21: =136000+370000 -> 506000
A22: 5213 | B22: Krizové záležitosti celkem | D22: 50000
A23: 5512 | B23: Požární ochrana - dobrovolná část celkem | D23: 76500
A24: 6112 | B24: Zastupitelstvo obcí celkem | D24: 574600
A25: 6171 | B25: Správa celkem | D25: 270500
A26: 6310 | B26: Výdaje z finančních operací | D26: 4000
A27: 6320 | B27: Pojištění obce | D27: 17000
A28: 6310 | B28: Ostatní finanční operace | D28: 89310
A29: 6402 | B29: Ostatní finanční operace | D29: 18360
A31: Výdaje celkem | D31: =D2+D3+D4+D5+D6+D7+D8+D9+D10+D11+D12+D13+D14+D15+D17+D18+D19+D20+D21+D22+D23+D24+D25+D26+D28+D29+D16+D27 -> 3367870
A33: 0 | B33: 8124 | C33: Financování z bankovního účtu obce - splátka úvěru | D33: 496560
D35: =D31+D33 -> 3864430
A37: Třída 5 - Běžné výdaje | D37: =Výdaje!D2+Výdaje!D3+Výdaje!D5+Výdaje!D6+Výdaje!D7+Výdaje!D9+Výdaje!D10+Výdaje!D11+Výdaje!D12+Výdaje!D14+Výdaje!D15+Výdaje!D16+Výdaje!D19+Výdaje!D21+Výdaje!D22+Výdaje!D23+Výdaje!D25+Výdaje!D27+Výdaje!D28+Výdaje!D29+Výdaje!D30+Výdaje!D31+Výdaje!D32+Výdaje!D34+Výdaje!D35+Výdaje!D36+Výdaje!D37+Výdaje!D38+Výdaje!D39+Výdaje!D42+Výdaje!D43+Výdaje!D45+Výdaje!D47+Výdaje!D48+Výdaje!D50+Výdaje!D51+Výdaje!D53+Výdaje!D54+Výdaje!D56+Výdaje!D60+Výdaje!D61+Výdaje!D62+Výdaje!D63+Výdaje!D64+Výdaje!D65+Výdaje!D66+Výdaje!D67+Výdaje!D69+Výdaje!D71+Výdaje!D73+Výdaje!D74+Výdaje!D75+Výdaje!D77+Výdaje!D78+Výdaje!D80+Výdaje!D81+Výdaje!D82+Výdaje!D83+Výdaje!D84+Výdaje!D87+Výdaje!D89+Výdaje!D90+Výdaje!D91+Výdaje!D92+Výdaje!D93+Výdaje!D94+Výdaje!D95+Výdaje!D97+Výdaje!D98+Výdaje!D100+Výdaje!D101+Výdaje!D102+Výdaje!D103+Výdaje!D104+Výdaje!D105+Výdaje!D107+Výdaje!D108+Výdaje!D109+Výdaje!D110+Výdaje!D111+Výdaje!D112+Výdaje!D113+Výdaje!D114+Výdaje!D115+Výdaje!D116+Výdaje!D117+Výdaje!D118+Výdaje!D119+Výdaje!D120+Výdaje!D121+Výdaje!D123+Výdaje!D125+Výdaje!D127+Výdaje!D129 -> 2747870
A38: Třída 6 - Kapitálové výdaje | D38: =Výdaje!D40+Výdaje!D58+Výdaje!D68+Výdaje!D85 -> 620000
A40: Třída 8 - Financování | D40: 496560
A42: Výdaje celkem | D42: =D37+D38+D40 -> 3864430
A45: Rozpočet - závazné ukazatele byly zpracovány v souladu se zněním § 11 zákona č. 250/2000 Sb., o rozpočtových pravidlech územních rozpočtů ve znění zákona č. 320/2001 Sb., č. 320/2002 Sb., č. 421/2004 Sb., č. 557/2004 Sb., č. 562/2004 Sb., č. 635/2004 Sb., č. 138/2006 Sb., č. 140/2006 Sb. a č. 245/2006 Sb. a jejich novelizací.
A51: Schválený rozpočet Obce Libotov na rok 2020 je schodkový. Schodek bude financován z finančních prostředků z předchozích let.
A52: Schválený rozpočet Obce Libotov na rok 2020 byl sestaven v souladu se zákoneme č. 128/2000 Sb., o obcíchm se zákonem č. 250/2000 Sb., o rozpočtových pravidlech územního rozpočtu a se zákonem č. 243/2000 Sb., o rozpočtovém určení daní v platném znění.
A54: Vyvěšeno - sejmuto: | D54: Razítko a podpis:
A55: Na úřední desce:
A56: Na elektronické úřední desce:
